BEGIN:VCALENDAR
VERSION:2.0
PRODID:-//wp-events-plugin.com//7.2.3.1//EN
TZID:America/Los_Angeles
X-WR-TIMEZONE:America/Los_Angeles
BEGIN:VEVENT
UID:7@thepacklife.co
DTSTART;TZID=America/Boise:20220528T100000
DTEND;TZID=America/Boise:20220528T120000
DTSTAMP:20220516T155304Z
URL:https://thepacklife.co/events/west-downtown-boise/
SUMMARY:River Greenbelt\, West Downtown Boise
DESCRIPTION:Hey\, I'm biking the River Greenbelt starting from West Downtow
 n. Maybe stop for lunch after. Who's in?\n\nMeet at District Coffee Shop\n
 \nSaturday 9am.\n\n[tribe_tickets_attendees] \n
CATEGORIES:Biking
LOCATION:River greenbelt\, boise\, 219 N. 10th St\, Boise\, ID\, United Sta
 tes
GEO:43.618291;-116.204647
X-APPLE-STRUCTURED-LOCATION;VALUE=URI;X-ADDRESS=219 N. 10th St\, Boise\, ID
 \, United States;X-APPLE-RADIUS=100;X-TITLE=River greenbelt\, boise:geo:43
 .618291,-116.204647
END:VEVENT
BEGIN:VEVENT
UID:12@thepacklife.co
DTSTART;TZID=America/Kentucky/Louisville:20220526T180000
DTEND;TZID=America/Kentucky/Louisville:20220526T210000
DTSTAMP:20220504T213530Z
URL:https://thepacklife.co/events/grabing-drinks/
SUMMARY:Grabbing drinks
DESCRIPTION:
CATEGORIES:Happy Hour
LOCATION:Lazarus Brewing\, 1902 e 6th st\, Austin\, TX\, United States
GEO:30.261726;-97.722003
X-APPLE-STRUCTURED-LOCATION;VALUE=URI;X-ADDRESS=1902 e 6th st\, Austin\, TX
 \, United States;X-APPLE-RADIUS=100;X-TITLE=Lazarus Brewing:geo:30.261726,
 -97.722003
END:VEVENT
BEGIN:VEVENT
UID:16@thepacklife.co
DTSTART;TZID=America/Kentucky/Louisville:20220522T140000
DTEND;TZID=America/Kentucky/Louisville:20220522T160000
DTSTAMP:20220504T213228Z
URL:https://thepacklife.co/events/discovery-center-boise/
SUMMARY:Discovery Center\, Boise
DESCRIPTION:The Apollo 11 Mission exhibit is on right now. Looks cool! Anyo
 ne interested in going Sunday afternoon?
CATEGORIES:Museum,Museums &amp; Art
LOCATION:Discovery Center\, 131 W. Myrtle  St\, Boise\, ID\, United States
GEO:43.60854;-116.199522
X-APPLE-STRUCTURED-LOCATION;VALUE=URI;X-ADDRESS=131 W. Myrtle  St\, Boise\,
  ID\, United States;X-APPLE-RADIUS=100;X-TITLE=Discovery Center:geo:43.608
 54,-116.199522
END:VEVENT
BEGIN:VEVENT
UID:15@thepacklife.co
DTSTART;TZID=America/Kentucky/Louisville:20220521T090000
DTEND;TZID=America/Kentucky/Louisville:20220521T103000
DTSTAMP:20220504T212756Z
URL:https://thepacklife.co/events/taking-a-bike-ride-saturay-morning-throu
 gh-barton-creek/
SUMMARY:Barton Creek\, Zilker Park
DESCRIPTION:Taking a bike ride Saturday morning through Barton Creek\n\nMee
 t at the Trail's Head\, Zilker Park Parking Lot\n\nSaturday 9am\n\n
CATEGORIES:Biking
LOCATION:Barton Creek\, Trail's Head Zilker Park\, Austin\, TX\, United Sta
 tes
GEO:30.266453;-97.768812
X-APPLE-STRUCTURED-LOCATION;VALUE=URI;X-ADDRESS=Trail's Head Zilker Park\, 
 Austin\, TX\, United States;X-APPLE-RADIUS=100;X-TITLE=Barton Creek:geo:30
 .266453,-97.768812
END:VEVENT
BEGIN:VEVENT
UID:5@thepacklife.co
DTSTART;TZID=America/North_Dakota/Center:20220518T180000
DTEND;TZID=America/North_Dakota/Center:20220518T193000
DTSTAMP:20220505T172809Z
URL:https://thepacklife.co/events/east-austin/
SUMMARY:Checking out Arbor Food Park tonight\, East Austin
DESCRIPTION:\n\nHeading to Arbor Food Park tonight.\n\nI'll be grabbing the
  Orange table by Cuantos Tacos. Come join!\n\n
CATEGORIES:Dining
LOCATION:Arbor Food Truck\, 1108 E.12th St\, Austin\, CA\, United States
GEO:30.272656;-97.728226
X-APPLE-STRUCTURED-LOCATION;VALUE=URI;X-ADDRESS=1108 E.12th St\, Austin\, C
 A\, United States;X-APPLE-RADIUS=100;X-TITLE=Arbor Food Truck:geo:30.27265
 6,-97.728226
END:VEVENT
BEGIN:VEVENT
UID:18@thepacklife.co
DTSTART;TZID=America/Boise:20220518T180000
DTEND;TZID=America/Boise:20220520T200000
DTSTAMP:20220505T173211Z
URL:https://thepacklife.co/events/grabbing-drinks-at-white-dog-after-work/
SUMMARY:Grabbing drinks at White Dog after work
DESCRIPTION:Hump day drinks! Anyone around?\n\n6pm-8pm\n\nMeet at the outdo
 or long table
CATEGORIES:Happy Hour
LOCATION:White Dog Brewery\, 705 w. fulton st \, boise\, ID\, United States
GEO:43.611246;-116.206554
X-APPLE-STRUCTURED-LOCATION;VALUE=URI;X-ADDRESS=705 w. fulton st \, boise\,
  ID\, United States;X-APPLE-RADIUS=100;X-TITLE=White Dog Brewery:geo:43.61
 1246,-116.206554
END:VEVENT
BEGIN:VEVENT
UID:11@thepacklife.co
DTSTART;TZID=America/Boise:20220331T180000
DTEND;TZID=America/Boise:20220331T200000
DTSTAMP:20220326T033439Z
URL:https://thepacklife.co/events/happy-hour-coils-wine-bar/
SUMMARY:Happy Hour @ Coiled Wine Bar
DESCRIPTION:Headed to Coiled Wine Bar for a much needed drink after work.\n
 \nThursday @6pm\n\nI'll save a long table right by the bar
CATEGORIES:Happy Hour
LOCATION:Coiled Wine Bar\, 813 W. Bannock St \, Boise\, ID\, United States
GEO:43.617267;-116.202888
X-APPLE-STRUCTURED-LOCATION;VALUE=URI;X-ADDRESS=813 W. Bannock St \, Boise\
 , ID\, United States;X-APPLE-RADIUS=100;X-TITLE=Coiled Wine Bar:geo:43.617
 267,-116.202888
END:VEVENT
BEGIN:VEVENT
UID:24@thepacklife.co
DTSTART;TZID=America/Kentucky/Louisville:20220328T180000
DTEND;TZID=America/Kentucky/Louisville:20220328T184500
DTSTAMP:20220404T182225Z
URL:https://thepacklife.co/events/today/
SUMMARY:today
DESCRIPTION:[tribe_community_tickets view="attendees_report" id="your_event
 _id"]
LOCATION:park st\, 1405 park st\, alameda\, ca\, United States
GEO:37.764548;-122.242924
X-APPLE-STRUCTURED-LOCATION;VALUE=URI;X-ADDRESS=1405 park st\, alameda\, ca
 \, United States;X-APPLE-RADIUS=100;X-TITLE=park st:geo:37.764548,-122.242
 924
END:VEVENT
BEGIN:VEVENT
UID:23@thepacklife.co
DTSTART;TZID=America/Boise:20220328T000000
DTEND;TZID=America/Boise:20220328T120000
DTSTAMP:20220328T050535Z
URL:https://thepacklife.co/events/hello/
SUMMARY:hello
DESCRIPTION:
LOCATION:mcgees\, 1405 park st\, alameda\, ca\, United States
GEO:37.764548;-122.242924
X-APPLE-STRUCTURED-LOCATION;VALUE=URI;X-ADDRESS=1405 park st\, alameda\, ca
 \, United States;X-APPLE-RADIUS=100;X-TITLE=mcgees:geo:37.764548,-122.2429
 24
END:VEVENT
BEGIN:VEVENT
UID:22@thepacklife.co
DTSTART;TZID=America/Kentucky/Louisville:20220327T010000
DTEND;TZID=America/Kentucky/Louisville:20220327T090000
DTSTAMP:20220326T224933Z
URL:https://thepacklife.co/events/tomorrow/
SUMMARY:tomorrow
DESCRIPTION:
CATEGORIES:Biking
LOCATION:mcgees\, 1405 park stt\, alameda\, ca\, United States
GEO:37.764548;-122.242924
X-APPLE-STRUCTURED-LOCATION;VALUE=URI;X-ADDRESS=1405 park stt\, alameda\, c
 a\, United States;X-APPLE-RADIUS=100;X-TITLE=mcgees:geo:37.764548,-122.242
 924
END:VEVENT
BEGIN:VEVENT
UID:21@thepacklife.co
DTSTART;TZID=America/Kentucky/Louisville:20220326T180000
DTEND;TZID=America/Kentucky/Louisville:20220326T200000
DTSTAMP:20220326T224046Z
URL:https://thepacklife.co/events/picture/
SUMMARY:Picture
DESCRIPTION:
LOCATION:mcgees\, 1405 park st\, Alameda\, ca\, United States
GEO:37.764548;-122.242924
X-APPLE-STRUCTURED-LOCATION;VALUE=URI;X-ADDRESS=1405 park st\, Alameda\, ca
 \, United States;X-APPLE-RADIUS=100;X-TITLE=mcgees:geo:37.764548,-122.2429
 24
END:VEVENT
BEGIN:VEVENT
UID:20@thepacklife.co
DTSTART;TZID=America/Kentucky/Louisville:20220325T150000
DTEND;TZID=America/Kentucky/Louisville:20220325T154500
DTSTAMP:20220325T162810Z
URL:https://thepacklife.co/events/trying-another/
SUMMARY:trying another
DESCRIPTION:
CATEGORIES:Beach
LOCATION:Where are we\, 1645 park st\, Alameda\, CA\, United States
GEO:37.767875;-122.240107
X-APPLE-STRUCTURED-LOCATION;VALUE=URI;X-ADDRESS=1645 park st\, Alameda\, CA
 \, United States;X-APPLE-RADIUS=100;X-TITLE=Where are we:geo:37.767875,-12
 2.240107
END:VEVENT
BEGIN:VEVENT
UID:19@thepacklife.co
DTSTART;TZID=America/Los_Angeles:20220325T000000
DTEND;TZID=America/Los_Angeles:20220325T010000
DTSTAMP:20220325T043129Z
URL:https://thepacklife.co/events/something-new/
SUMMARY:Something new
DESCRIPTION:Come watch NCAA games at the bar. Will save a table by the shuf
 fle board for anyone who wants to join. Will be there at 3pm.
CATEGORIES:Happy Hour
LOCATION:mcgees\, 1645 park st\, alameda\, CA\, United States
GEO:37.767875;-122.240107
X-APPLE-STRUCTURED-LOCATION;VALUE=URI;X-ADDRESS=1645 park st\, alameda\, CA
 \, United States;X-APPLE-RADIUS=100;X-TITLE=mcgees:geo:37.767875,-122.2401
 07
END:VEVENT
BEGIN:VTIMEZONE
TZID:America/Boise
X-LIC-LOCATION:America/Boise
BEGIN:DAYLIGHT
DTSTART:20220313T030000
TZOFFSETFROM:-0700
TZOFFSETTO:-0600
TZNAME:MDT
END:DAYLIGHT
END:VTIMEZONE
BEGIN:VTIMEZONE
TZID:America/Kentucky/Louisville
X-LIC-LOCATION:America/Kentucky/Louisville
BEGIN:DAYLIGHT
DTSTART:20220313T030000
TZOFFSETFROM:-0500
TZOFFSETTO:-0400
TZNAME:EDT
END:DAYLIGHT
END:VTIMEZONE
BEGIN:VTIMEZONE
TZID:America/North_Dakota/Center
X-LIC-LOCATION:America/North_Dakota/Center
BEGIN:DAYLIGHT
DTSTART:20220313T030000
TZOFFSETFROM:-0600
TZOFFSETTO:-0500
TZNAME:CDT
END:DAYLIGHT
END:VTIMEZONE
BEGIN:VTIMEZONE
TZID:America/Los_Angeles
X-LIC-LOCATION:America/Los_Angeles
BEGIN:DAYLIGHT
DTSTART:20220313T030000
TZOFFSETFROM:-0800
TZOFFSETTO:-0700
TZNAME:PDT
END:DAYLIGHT
END:VTIMEZONE
END:VCALENDAR